BEGIN:VCALENDAR
VERSION:2.0
PRODID:-//ChamberMaster//Event Calendar 2.0//EN
METHOD:PUBLISH
X-PUBLISHED-TTL:P3D
REFRESH-INTERVAL:P3D
CALSCALE:GREGORIAN
BEGIN:VEVENT
DTSTART:20210206T180000Z
DTEND:20210206T200000Z
X-MICROSOFT-CDO-ALLDAYEVENT:FALSE
SUMMARY:74th Carrot Festival Parade
DESCRIPTION:74th Annual Carrot Festival Parade
X-ALT-DESC;FMTTYPE=text/html:74th&nbsp\;Annual Carrot Festival Parade
LOCATION:Holtville\, CA
UID:e.2197.377
SEQUENCE:3
DTSTAMP:20260424T020010Z
URL:https://holtvillechamber-vista-gzcms.preview.gochambermaster.com/events/details/74th-carrot-festival-parade-377
END:VEVENT

END:VCALENDAR
