BEGIN:VCALENDAR
VERSION:2.0
PRODID:-//ChamberMaster//Event Calendar 2.0//EN
METHOD:PUBLISH
X-PUBLISHED-TTL:P3D
REFRESH-INTERVAL:P3D
CALSCALE:GREGORIAN
BEGIN:VEVENT
DTSTART:20191026T150000Z
DTEND:20191026T180000Z
X-MICROSOFT-CDO-ALLDAYEVENT:FALSE
SUMMARY:I Pink I Can
DESCRIPTION:Proceeds benefit Imperial Valley Cancer Support Center
X-ALT-DESC;FMTTYPE=text/html:Proceeds benefit Imperial Valley Cancer Support Center
LOCATION:Cattle Call Park
UID:e.2197.357
SEQUENCE:3
DTSTAMP:20260426T004839Z
URL:https://holtvillechamber-vista-gzcms.preview.gochambermaster.com/events/details/i-pink-i-can-357
END:VEVENT

END:VCALENDAR
