BEGIN:VCALENDAR
VERSION:2.0
PRODID:-//ChamberMaster//Event Calendar 2.0//EN
METHOD:PUBLISH
X-PUBLISHED-TTL:P3D
REFRESH-INTERVAL:P3D
CALSCALE:GREGORIAN
BEGIN:VEVENT
DTSTART;VALUE=DATE:20191025
DTEND;VALUE=DATE:20191112
TRANSP:TRANSPARENT
X-MICROSOFT-CDO-ALLDAYEVENT:TRUE
SUMMARY:Progressive Raffle Drawing
DESCRIPTION:Holtville Chamber of Commerce will be selling Progressive Raffle Tickets. Each ticket is $100 and there are 18 chances to win up to $5000! Tickets go on sale in August
X-ALT-DESC;FMTTYPE=text/html:Holtville Chamber of Commerce will be selling Progressive Raffle Tickets. Each ticket is $100 and there are 18 chances to win up to $5000! Tickets go on sale in August
LOCATION:
UID:e.2197.320
SEQUENCE:3
DTSTAMP:20260425T220836Z
URL:https://holtvillechamber-vista-gzcms.preview.gochambermaster.com/events/details/progressive-raffle-drawing-320
END:VEVENT

END:VCALENDAR
